BEGIN:VCALENDAR
VERSION:2.0
METHOD:PUBLISH
BEGIN:VEVENT
UID:WILD_APRICOT_EVENT_3092434_SESSION_1
DTSTART:20190203T140000Z
DTEND:20190204T140000Z
SUMMARY:GLAD  - GOLD COAST LAWYERS ACHIEVING DEVELOPMENT
LOCATION:
DESCRIPTION:https://www.gcdla.com.au/event-3092434\n\n\n\n  \n\n  We are nearly at the end of our mentoring breakfast series for 2018. After a successful 2018 year of the GLAD mentoring program\, we are pleased to announce that we will be running this program again in 2019.\n  For those who are interested in joining GLAD\, whether you are a senior solicitor wanting to mentor or a junior or have changed practice areas seeking a mentor\, please click on the link below to complete the form:\n  GLAD EOI MENTOR AND MENTEES 2019.pdf\n\n  The closing date for expressions of interest is 1 December 2018 in order that the program can commence in early February 2019.\n  \n\n
DTSTAMP:20260424T173641Z
END:VEVENT
END:VCALENDAR
