BEGIN:VCALENDAR
VERSION:2.0
METHOD:PUBLISH
BEGIN:VEVENT
UID:WILD_APRICOT_EVENT_3080787_SESSION_1
DTSTART:20181130T073000Z
DTEND:20181130T073000Z
SUMMARY:Christmas Drinks 2018
LOCATION:Edge Water Dining and Lounge Bar
DESCRIPTION:https://www.gcdla.com.au/event-3080787\n\n\n  RSVP Date: Thursday\, 22 November\, 2018 - 17:00\n  Join the Gold Coast District Law Association for our 2018 Christmas event\n\n  The event will be held at Edgewater Dining & Lounge on 30 November at 5.30pm\n  Tickets are $30 for members and $35 for non-members\n  Tickets include canapes and two drinks. \n  Become a Member or login\n\n  \n\n
DTSTAMP:20260424T160659Z
END:VEVENT
END:VCALENDAR
