BEGIN:VCALENDAR
VERSION:2.0
METHOD:PUBLISH
BEGIN:VEVENT
UID:WILD_APRICOT_EVENT_2993843_SESSION_1
DTSTART:20180828T203000Z
DTEND:20180829T103000Z
SUMMARY:Wellness Breakfast
LOCATION:Minter Ellison
DESCRIPTION:https://www.gcdla.com.au/event-2993843\n\nCome along to the wellness breakfast to learn tips and tricks on how to stay look after yourself and those around you as you go about your duties as a legal practitioner.\n  A relaxed breakfast and coffee are provided on arrival. \n
DTSTAMP:20260424T161110Z
END:VEVENT
END:VCALENDAR
